BEGIN:VCALENDAR
VERSION:2.0
PRODID:-//International Association for Music &amp; Medicine - ECPv6.15.20//NONSGML v1.0//EN
CALSCALE:GREGORIAN
METHOD:PUBLISH
X-ORIGINAL-URL:https://iammonline.com
X-WR-CALDESC:Events for International Association for Music &amp; Medicine
REFRESH-INTERVAL;VALUE=DURATION:PT1H
X-Robots-Tag:noindex
X-PUBLISHED-TTL:PT1H
BEGIN:VTIMEZONE
TZID:America/New_York
BEGIN:DAYLIGHT
TZOFFSETFROM:-0500
TZOFFSETTO:-0400
TZNAME:EDT
DTSTART:20210314T070000
END:DAYLIGHT
BEGIN:STANDARD
TZOFFSETFROM:-0400
TZOFFSETTO:-0500
TZNAME:EST
DTSTART:20211107T060000
END:STANDARD
BEGIN:DAYLIGHT
TZOFFSETFROM:-0500
TZOFFSETTO:-0400
TZNAME:EDT
DTSTART:20220313T070000
END:DAYLIGHT
BEGIN:STANDARD
TZOFFSETFROM:-0400
TZOFFSETTO:-0500
TZNAME:EST
DTSTART:20221106T060000
END:STANDARD
BEGIN:DAYLIGHT
TZOFFSETFROM:-0500
TZOFFSETTO:-0400
TZNAME:EDT
DTSTART:20230312T070000
END:DAYLIGHT
BEGIN:STANDARD
TZOFFSETFROM:-0400
TZOFFSETTO:-0500
TZNAME:EST
DTSTART:20231105T060000
END:STANDARD
END:VTIMEZONE
BEGIN:VEVENT
DTSTART;TZID=America/New_York:20221109T110000
DTEND;TZID=America/New_York:20221109T120000
DTSTAMP:20260422T122759
CREATED:20221019T071233Z
LAST-MODIFIED:20221019T071423Z
UID:10000051-1667991600-1667995200@iammonline.com
SUMMARY:IAMM Book Club 2022 - Breaking Strings
DESCRIPTION:Join us for this talk on Breaking Strings: Explorations of Mistakes in Music Therapy on November 11th. \nIn this innovative volume of Breaking Strings\, Avi Gilboa from  and Laurien Hakvoort use broken strings on an instrument as a metaphor to refer to those frustrating and sometimes upsetting moments when things go wrong in music therapy. \nAlthough there are myriad ways in which music therapists can make mistakes and deal with the consequences\, there is limited coverage of this subject in the professional literature. This book explores theoretical ideas and research on mistakes in music therapy. It also presents a series of authentic case studies in which 17 music therapists – ranging from novice to experienced practitioners\, from 13 different countries – describe and reflect on mistakes in their own practice. \nThis book provides a starting point for both students and the wider music therapy community to discuss\, analyze\, and ultimately understand and learn from mistakes as part of their professional development. \n \nAvi Gilboa (Israel)\, PhD\, received his BA in Psychology and Music at Bar-Ilan University\, Israel and subsequently his diploma in Music Therapy and his PhD in Cognitive Psychology. He has been a music therapist since 2001 in various settings and with different clinical populations. He is associate professor and head of the Music Therapy program at Bar-Ilan university. He supervises many music therapy PhD students and is supervisor of music therapy students and graduates. \n  \n  \n  \n\n \nLaurien Hakvoort (Netherlands)\, PhD\, RMTh\, NMT-Fellow\, holds a BA and MA in Music Therapy from Amersfoort and University of the Pacific\, California\, USA\, respectively. She obtained her PhD in Behavioral Sciences from Tilburg University. She has been a music therapist since 1994 and has worked as a music therapist in forensic psychiatry for 17 years and currently runs a private practice\, Muzis.net. She is a music therapy lecturer on the bachelor’s and (pre-)master’s programs at ArtEZ University of the Arts\, Enschede\, the Netherlands and a freelance researcher. \n  \n  \n  \n\n \nMelissa Mercadal-Brotons\, PhD\, MT-BC\, MTAE. Music therapist specialised in the area of gerontology and dementias. Member of the Research Group PSICOPERSONA (FPCCE-Blanquerna\, URL). Director of the Master Programme in Music Therapy (idEC-UPF\, Barcelona). Coordinator of Research and Master Programmes (Escola Superior de Música de Catalunya-ESMUC). EMTC Spanish Delegate. Chair of the Publications Commission (WFMT). \n  \n  \n  \n\nThis event is free and open to the public. Please register for the event below. \n\n	\n				\n\n													\n\n										\n																					\n												Email Address											\n										\n										\n										\n										\n\n										\n										\n									\n																		\n\n										\n																					\n												First Name											\n										\n										\n										\n										\n\n										\n										\n									\n																		\n\n										\n																					\n												Last Name											\n										\n										\n										\n										\n\n										\n										\n									\n									\n				\n				\n\n				\n				\n\n				\n				\n\n				\n				 Submit
URL:https://iammonline.com/event/bookclub2022/
ATTACH;FMTTYPE=image/png:https://iammonline.com/wp-content/uploads/2022/09/IAMM-79-1.png
END:VEVENT
END:VCALENDAR