BEGIN:VCALENDAR
VERSION:2.0
PRODID:-//International Association for Music &amp; Medicine - ECPv6.15.20//NONSGML v1.0//EN
CALSCALE:GREGORIAN
METHOD:PUBLISH
X-WR-CALNAME:International Association for Music &amp; Medicine
X-ORIGINAL-URL:https://iammonline.com
X-WR-CALDESC:Events for International Association for Music &amp; Medicine
REFRESH-INTERVAL;VALUE=DURATION:PT1H
X-Robots-Tag:noindex
X-PUBLISHED-TTL:PT1H
BEGIN:VTIMEZONE
TZID:America/New_York
BEGIN:DAYLIGHT
TZOFFSETFROM:-0500
TZOFFSETTO:-0400
TZNAME:EDT
DTSTART:20200308T070000
END:DAYLIGHT
BEGIN:STANDARD
TZOFFSETFROM:-0400
TZOFFSETTO:-0500
TZNAME:EST
DTSTART:20201101T060000
END:STANDARD
BEGIN:DAYLIGHT
TZOFFSETFROM:-0500
TZOFFSETTO:-0400
TZNAME:EDT
DTSTART:20210314T070000
END:DAYLIGHT
BEGIN:STANDARD
TZOFFSETFROM:-0400
TZOFFSETTO:-0500
TZNAME:EST
DTSTART:20211107T060000
END:STANDARD
BEGIN:DAYLIGHT
TZOFFSETFROM:-0500
TZOFFSETTO:-0400
TZNAME:EDT
DTSTART:20220313T070000
END:DAYLIGHT
BEGIN:STANDARD
TZOFFSETFROM:-0400
TZOFFSETTO:-0500
TZNAME:EST
DTSTART:20221106T060000
END:STANDARD
END:VTIMEZONE
BEGIN:VEVENT
DTSTART;TZID=America/New_York:20210713T120000
DTEND;TZID=America/New_York:20210713T130000
DTSTAMP:20260424T131309
CREATED:20210629T082530Z
LAST-MODIFIED:20210629T082530Z
UID:10000028-1626177600-1626181200@iammonline.com
SUMMARY:IAMM Book Club - Sing You Home
DESCRIPTION:Join our first IAMM Book Club meeting on July 13th at 12pm EDT for a conversation with Jodi Picoult\, #1 New York Times bestselling author of twenty-seven novels. 5 of Jodi’s books have been made into movies including “My Sister’s Keeper” starring Cameron Dias. She was also featured on The Ellen DeGeneres Show for her book “Sing You Home.” She has won many awards and recognitions including the Sarah Josepha Hale award. \nThis event will be free and open to the public\, please register here.
URL:https://iammonline.com/event/iamm-book-club-sing-you-home/
LOCATION:Online
CATEGORIES:IAMM Book Club
ATTACH;FMTTYPE=image/png:https://iammonline.com/wp-content/uploads/2021/06/picoult-1.png
END:VEVENT
END:VCALENDAR